BEGIN:VCALENDAR
VERSION:2.0
PRODID:-//Muno - ECPv6.7.0//NONSGML v1.0//EN
CALSCALE:GREGORIAN
METHOD:PUBLISH
X-ORIGINAL-URL:https://muno.no
X-WR-CALDESC:Arrangement for Muno
REFRESH-INTERVAL;VALUE=DURATION:PT1H
X-Robots-Tag:noindex
X-PUBLISHED-TTL:PT1H
BEGIN:VTIMEZONE
TZID:Europe/Oslo
BEGIN:DAYLIGHT
TZOFFSETFROM:+0100
TZOFFSETTO:+0200
TZNAME:CEST
DTSTART:20170326T010000
END:DAYLIGHT
BEGIN:STANDARD
TZOFFSETFROM:+0200
TZOFFSETTO:+0100
TZNAME:CET
DTSTART:20171029T010000
END:STANDARD
END:VTIMEZONE
BEGIN:VEVENT
DTSTART;VALUE=DATE:20171120
DTEND;VALUE=DATE:20171125
DTSTAMP:20260421T041105
CREATED:20171016T153902Z
LAST-MODIFIED:20171113T193612Z
UID:3043-1511136000-1511567999@muno.no
SUMMARY:Fremføringsuke 3\, 2017
DESCRIPTION:Fremføringsuke 3\nDenne uken (uke 47) er det fremføringsuke for alle våre avdelinger\, med unntak av Lillestrøm og Trondheim. \n\nLes mer om vår Fremføringsuke her.
URL:https://muno.no/event/fremforingsuke/
CATEGORIES:Ålesund,Asker,Drammen,Gjøvik,Kristiansand,Moss,Oslo sentrum,Oslo: Grorud,Oslo: Hellerud,Oslo: Majorstuen,Sandefjord,Sandnes,Stavanger
ORGANIZER;CN="Muno":MAILTO:post@muno.no
END:VEVENT
BEGIN:VEVENT
DTSTART;TZID=Europe/Oslo:20171119T130000
DTEND;TZID=Europe/Oslo:20171119T143000
DTSTAMP:20260421T041105
CREATED:20171016T113705Z
LAST-MODIFIED:20171102T134335Z
UID:3041-1511096400-1511101800@muno.no
SUMMARY:Elevkonsert Muno Trondheim - vinteren 2017
DESCRIPTION:Påmelding\nPåmeldingsfristen er fredag 20. oktober\, og påmelding går til lærer på timen. \n\n\n\nKonsert\n\nKl. 13:00 – Alle elever (Sang\, trommer\, piano\, gitar\, fiolin og bass)\nOppmøte\, lærere: 12:00\nOppmøte\, elever: 12:15\nDører åpner for publikum: 12:50\n\nEndringer vil kunne forekomme. \n\nLes mer om Munos elevkonserter her.
URL:https://muno.no/event/konsert-trondheim-vinter-2017/
LOCATION:Muno Trondheim\, Fjordgata 1\, Trondheim\, 7010\, Norge
CATEGORIES:Trondheim
ORGANIZER;CN="Muno":MAILTO:post@muno.no
GEO:63.4344638;10.4040895
X-APPLE-STRUCTURED-LOCATION;VALUE=URI;X-ADDRESS=Muno Trondheim Fjordgata 1 Trondheim 7010 Norge;X-APPLE-RADIUS=500;X-TITLE=Fjordgata 1:geo:10.4040895,63.4344638
END:VEVENT
BEGIN:VEVENT
DTSTART;TZID=Europe/Oslo:20171117T190000
DTEND;TZID=Europe/Oslo:20171117T220000
DTSTAMP:20260421T041105
CREATED:20171017T123157Z
LAST-MODIFIED:20171114T112837Z
UID:3052-1510945200-1510956000@muno.no
SUMMARY:Askerfestivalen #80
DESCRIPTION:Torsdag 16.11.17 – warm-up-kveld\, kun for dere artistene (ikke obligatorisk)\n \n·         Oppmøte 17.00\n·         Vi serverer varmmat til alle artistene\, fra kl. 18.00.\n·         Spill og overraskelser i kafeen\n \nLydprøver starter vi med så snart første artist er klar. Vi bestemmer rekkefølgen da\, så si gjerne ifra til meg/Espen eller Nicolai (tekniker) dersom dere ser at dere må av gårde på noe annet og trenger å sjekke lyd og scene tidlig eller seint. Torsdagen blir litt på sparket\, den kvelden er ment å være low-key\, sosial og en mulighet for å møte andre artister\, bli kjent med hverandre  – og Radar. Håper dere vil bli med på det!\n \n·         Vi satser på å være ferdige til kl 21.00. Dere kan selvsagt gå når dere ønsker\, men heng gjerne ut på Radar kafé hele kvelden.\n\n\nFredag 17.11.17 – konsertkveld\n \n·         Oppmøte 17.00 for alle artister\, dørene åpner/Radar kafeen åpner.\nOm du vil komme før\, er det helt OK! Vi har backstage klar og man kan preppe seg selv og sitt materiale.\n·         Radar scene er klar. Første artist går på 18.00.\n·         Kvelden avsluttes ca 22.00.\n \n \nLine-up\, artister er IKKE satt i riktig spillerekkefølge\n \n\n\n\n\n\n1 \n\n\nFilip Pham \n\n\n\n\n2 \n\n\nHåvard Bigseth \n\n\n\n\n3 \n\n\nAnna & Atina \n\n\n\n\n4 \n\nThe POPS\n\n\n\n5 \n\n\nBlister Moon \n\n\n\n\n6 \n\n\nThe Kiraras \n\n\n\n\n7 \n\n\nThe Chickens \n\n\n\n\n8 \n\n\nHøst \n\n\n\n\n9 \n\n\nYggdrasil \n\n\n\n\n10 \n\n\nThe Pricks \n\n\n\n\n11 \n\n\nLama \n\n\n\n\n12 \n\n\nIda Elise \n\n\n\n\n13 \n\n\nHudkreft
URL:https://muno.no/event/map-asker-askerfestivalen-80-host-2017/
LOCATION:Radar Scene\, Kirkeveien 206B\, Asker\, 1383\, Norway
CATEGORIES:MAP Asker,MAP Oslo
ORGANIZER;CN="Muno":MAILTO:post@muno.no
END:VEVENT
BEGIN:VEVENT
DTSTART;VALUE=DATE:20171113
DTEND;VALUE=DATE:20171118
DTSTAMP:20260421T041105
CREATED:20171113T193525Z
LAST-MODIFIED:20171113T193525Z
UID:3225-1510531200-1510963199@muno.no
SUMMARY:Fremføringsuke 3\, 2017: Trondheim
DESCRIPTION:Fremføringsuke i Trondheim\nDenne uken (uke 46) er det fremføringsuke for Muno Trondheim. \n\nLes mer om vår Fremføringsuke her.
URL:https://muno.no/event/fremforingsuke-3-2017-trondheim/
LOCATION:Muno Trondheim\, Fjordgata 1\, Trondheim\, 7010\, Norge
CATEGORIES:Trondheim
ORGANIZER;CN="Muno":MAILTO:post@muno.no
GEO:63.4344638;10.4040895
X-APPLE-STRUCTURED-LOCATION;VALUE=URI;X-ADDRESS=Muno Trondheim Fjordgata 1 Trondheim 7010 Norge;X-APPLE-RADIUS=500;X-TITLE=Fjordgata 1:geo:10.4040895,63.4344638
END:VEVENT
BEGIN:VEVENT
DTSTART;TZID=Europe/Oslo:20171112T120000
DTEND;TZID=Europe/Oslo:20171112T170000
DTSTAMP:20260421T041105
CREATED:20171016T083457Z
LAST-MODIFIED:20171120T150858Z
UID:3021-1510488000-1510506000@muno.no
SUMMARY:Elevkonsert Muno Asker - søndag vinteren 2017
DESCRIPTION:Påmelding\nPåmeldingsfristen er fredag 13. oktober\, og påmelding går til lærer på timen. \nElevkonserten går over to dager. Se her for programmet på lørdagen. \n\n\n\nSøndag – gruppe 1\n\nKl. 12:00 – Linn (Sang)\nOppmøte\, lærere: 11:00\nOppmøte\, elever: 11:15\nDører åpner for publikum: 11:50\n\n\n\nSøndag – gruppe 2\n\nKl. 16:00 – Leif (Sang)\nOppmøte\, lærere: 15:00\nOppmøte\, elever: 15:15\nDører åpner for publikum: 15:50\n\n\nSe video fra konserten\n\n    \n  \n\nLes mer om Munos elevkonserter her.
URL:https://muno.no/event/konsert-asker-sondag-vinter-2017/
LOCATION:Muno Asker\, Alfheim 26\, Asker\, 1384\, Norge
CATEGORIES:Asker,MAP Asker
ORGANIZER;CN="Muno":MAILTO:post@muno.no
GEO:59.8328721;10.4373616
X-APPLE-STRUCTURED-LOCATION;VALUE=URI;X-ADDRESS=Muno Asker Alfheim 26 Asker 1384 Norge;X-APPLE-RADIUS=500;X-TITLE=Alfheim 26:geo:10.4373616,59.8328721
END:VEVENT
BEGIN:VEVENT
DTSTART;TZID=Europe/Oslo:20171111T120000
DTEND;TZID=Europe/Oslo:20171111T170000
DTSTAMP:20260421T041105
CREATED:20171016T082957Z
LAST-MODIFIED:20171120T150558Z
UID:3015-1510401600-1510419600@muno.no
SUMMARY:Elevkonsert Muno Asker - lørdag vinteren 2017
DESCRIPTION:Påmelding\nPåmeldingsfristen er fredag 13. oktober\, og påmelding går til lærer på timen. \nElevkonserten går over to dager. Se her for programmet på søndagen. \n\n\n\nLørdag – gruppe 1\n\nKl. 12:00 – Oskar\, Francisco\, Martin\, Are (Piano)\nOppmøte\, lærere: 11:00\nOppmøte\, elever: 11:15\nDører åpner for publikum: 11:50\n\n\n\nLørdag – gruppe 2\n\nKl. 14:00 – Jogeir\, Freddy\, Knut (Gitar)\nOppmøte\, lærere: 13:00\nOppmøte\, elever: 13:15\nDører åpner for publikum: 13:50\n\n\n\nLørdag – gruppe 3\n\nKl. 16:00 – Åshild\, Ane (Sang)\nOppmøte\, lærere: 15:00\nOppmøte\, elever: 15:15\nDører åpner for publikum: 15:50\n\n\nSe video fra konserten\n\n    \n  \n\nLes mer om Munos elevkonserter her.
URL:https://muno.no/event/konsert-asker-lordag-vinter-2017/
LOCATION:Muno Asker\, Alfheim 26\, Asker\, 1384\, Norge
CATEGORIES:Asker
ORGANIZER;CN="Muno":MAILTO:post@muno.no
GEO:59.8328721;10.4373616
X-APPLE-STRUCTURED-LOCATION;VALUE=URI;X-ADDRESS=Muno Asker Alfheim 26 Asker 1384 Norge;X-APPLE-RADIUS=500;X-TITLE=Alfheim 26:geo:10.4373616,59.8328721
END:VEVENT
BEGIN:VEVENT
DTSTART;TZID=Europe/Oslo:20171110T160000
DTEND;TZID=Europe/Oslo:20171110T200000
DTSTAMP:20260421T041105
CREATED:20171016T091603Z
LAST-MODIFIED:20171128T184028Z
UID:3028-1510329600-1510344000@muno.no
SUMMARY:Elevkonsert Muno Sandnes og Muno Stavanger - vinteren 2017
DESCRIPTION:Påmelding\nPåmeldingsfristen er fredag 20. oktober\, og påmelding går til lærer på timen. \n\n\n\nGruppe 1\n\nKl. 16:00 – Oddmund\, Benjamin\, Thorbjørn\, Julian\, Jakob O.\, Jakob Y.\, Aleksander (Pop/ rock)\nOppmøte\, lærere: 15:00\nOppmøte\, elever: 15:15\nDører åpner for publikum: 15:50\n\n\n\nGruppe 2\n\nKl. 17:30 – Helena\, Heidi\, Irina\, Nelly (Sang)\nOppmøte\, lærere: 16:45\nOppmøte\, elever: 17:00\nDører åpner for publikum: 17:20\n\n\n\nGruppe 3\n\nKl. 19:00 – Michal\, Xiaoxu\, Alia\, Ulvi\, Penka\, Karina\, Jósef (Klassisk)\nOppmøte\, lærere: 18:15\nOppmøte\, elever: 18:30\nDører åpner for publikum: 18:50\n\nEndringer vil kunne forekomme. \n\nSe video fra konserten\n\n    \n  \n\nLes mer om Munos elevkonserter her.
URL:https://muno.no/event/konsert-sandnes-stavanger-vinteren-2017/
LOCATION:Bekkefaret bydelshus\, Hjalmar Johansensgate 4\, Stavanger\, 4019\, Norge
CATEGORIES:Sandnes,Stavanger
ORGANIZER;CN="Muno":MAILTO:post@muno.no
GEO:58.9509334;5.7256091
X-APPLE-STRUCTURED-LOCATION;VALUE=URI;X-ADDRESS=Bekkefaret bydelshus Hjalmar Johansensgate 4 Stavanger 4019 Norge;X-APPLE-RADIUS=500;X-TITLE=Hjalmar Johansensgate 4:geo:5.7256091,58.9509334
END:VEVENT
BEGIN:VEVENT
DTSTART;TZID=Europe/Oslo:20171030T090000
DTEND;TZID=Europe/Oslo:20171030T190000
DTSTAMP:20260421T041105
CREATED:20171031T132727Z
LAST-MODIFIED:20171031T132727Z
UID:3193-1509354000-1509390000@muno.no
SUMMARY:Studioinnspilling: Kvikt & Hurtig
DESCRIPTION:Kvikt og Hurtig i Audiobug studio
URL:https://muno.no/event/studioinnspilling-kvikt-hurtig/
LOCATION:AudioBug\, Christian Kroghs Gate 2\, Oslo\, 0186\, Norge
CATEGORIES:MAP Oslo
ORGANIZER;CN="Muno":MAILTO:post@muno.no
GEO:59.9141052;10.7579056
X-APPLE-STRUCTURED-LOCATION;VALUE=URI;X-ADDRESS=AudioBug Christian Kroghs Gate 2 Oslo 0186 Norge;X-APPLE-RADIUS=500;X-TITLE=Christian Kroghs Gate 2:geo:10.7579056,59.9141052
END:VEVENT
BEGIN:VEVENT
DTSTART;TZID=Europe/Oslo:20171029T140000
DTEND;TZID=Europe/Oslo:20171029T150000
DTSTAMP:20260421T041105
CREATED:20171016T113231Z
LAST-MODIFIED:20171016T113852Z
UID:3040-1509285600-1509289200@muno.no
SUMMARY:Elevkonsert Muno Lillestrøm - høsten 2017: Einar og Nordvald
DESCRIPTION:Høstkonsert for Einar og Nordvalds elever. Konserten finner sted på Scenerommet i Munos egne lokaler. Kontakt lærer direkte for mer informasjon.
URL:https://muno.no/event/elevkonsert-lillestrom-hosten-2017-einar-og-nordvald/
LOCATION:Muno Lillestrøm\, Kirkegata 1\, Lillestrøm\, 2000\, Norge
CATEGORIES:Lillestrøm
ORGANIZER;CN="Muno":MAILTO:post@muno.no
GEO:59.9565492;11.0349711
X-APPLE-STRUCTURED-LOCATION;VALUE=URI;X-ADDRESS=Muno Lillestrøm Kirkegata 1 Lillestrøm 2000 Norge;X-APPLE-RADIUS=500;X-TITLE=Kirkegata 1:geo:11.0349711,59.9565492
END:VEVENT
BEGIN:VEVENT
DTSTART;TZID=Europe/Oslo:20171028T080000
DTEND;TZID=Europe/Oslo:20171028T170000
DTSTAMP:20260421T041105
CREATED:20171016T113007Z
LAST-MODIFIED:20171016T113859Z
UID:3038-1509177600-1509210000@muno.no
SUMMARY:Elevkonsert Muno Lillestrøm - høsten 2017
DESCRIPTION:Muno Lillestrøm arrangerer en vakker høstkonsert i Lillestrøm Metodistkirke. \n\n\nLørdag 28. okt\n\nkl. 11.00: Bjørn Sigurd og Christinas elever\nkl. 13.00: Hermans (Karins)  elever\nkl. 15.00: Charlottes elever\nkl. 17.00: Ingrid og Sunnivas elever
URL:https://muno.no/event/elevkonsert-lillestrom-hosten-2017/
LOCATION:Lillestrøm Metodistkirke\, Eidsvoldsgangen 3\, Lillestrøm\, 2004\, Norge
CATEGORIES:Lillestrøm
ORGANIZER;CN="Muno":MAILTO:post@muno.no
GEO:59.9549343;11.0541093
X-APPLE-STRUCTURED-LOCATION;VALUE=URI;X-ADDRESS=Lillestrøm Metodistkirke Eidsvoldsgangen 3 Lillestrøm 2004 Norge;X-APPLE-RADIUS=500;X-TITLE=Eidsvoldsgangen 3:geo:11.0541093,59.9549343
END:VEVENT
BEGIN:VEVENT
DTSTART;TZID=Europe/Oslo:20171026T170000
DTEND;TZID=Europe/Oslo:20171026T180000
DTSTAMP:20260421T041105
CREATED:20171016T112406Z
LAST-MODIFIED:20171016T113907Z
UID:3037-1509037200-1509040800@muno.no
SUMMARY:Elevkonsert Muno Lillestrøm - høsten 2017: Sofia
DESCRIPTION:Høstkonsert for Sofias elever. Konserten finner sted på Scenerommet i Munos egne lokaler. Kontakt lærer direkte for mer informasjon.
URL:https://muno.no/event/konsert-lillestrom-hosten-2017-sofia/
LOCATION:Muno Lillestrøm\, Kirkegata 1\, Lillestrøm\, 2000\, Norge
CATEGORIES:Lillestrøm
ORGANIZER;CN="Muno":MAILTO:post@muno.no
GEO:59.9565492;11.0349711
X-APPLE-STRUCTURED-LOCATION;VALUE=URI;X-ADDRESS=Muno Lillestrøm Kirkegata 1 Lillestrøm 2000 Norge;X-APPLE-RADIUS=500;X-TITLE=Kirkegata 1:geo:11.0349711,59.9565492
END:VEVENT
BEGIN:VEVENT
DTSTART;TZID=Europe/Oslo:20171025T180000
DTEND;TZID=Europe/Oslo:20171025T210000
DTSTAMP:20260421T041105
CREATED:20171016T111941Z
LAST-MODIFIED:20171016T113941Z
UID:3036-1508954400-1508965200@muno.no
SUMMARY:Elevkonsert Muno Lillestrøm - høsten 2017: Mari
DESCRIPTION:Høstkonsert finner sted på Scenerommet i Munos egne lokaler. Kontakt lærer direkte for mer informasjon. \n\nKl. 18:00: Maris elever\nKl. 20:00: Maris elever\n\n 
URL:https://muno.no/event/konsert-lillestrom-hosten-2017-mari/
LOCATION:Muno Lillestrøm\, Kirkegata 1\, Lillestrøm\, 2000\, Norge
CATEGORIES:Lillestrøm
ORGANIZER;CN="Muno":MAILTO:post@muno.no
GEO:59.9565492;11.0349711
X-APPLE-STRUCTURED-LOCATION;VALUE=URI;X-ADDRESS=Muno Lillestrøm Kirkegata 1 Lillestrøm 2000 Norge;X-APPLE-RADIUS=500;X-TITLE=Kirkegata 1:geo:11.0349711,59.9565492
END:VEVENT
BEGIN:VEVENT
DTSTART;TZID=Europe/Oslo:20171025T160000
DTEND;TZID=Europe/Oslo:20171025T180000
DTSTAMP:20260421T041105
CREATED:20171017T122933Z
LAST-MODIFIED:20171017T123520Z
UID:3050-1508947200-1508954400@muno.no
SUMMARY:Radar Uhørt
DESCRIPTION:Radar rigger opp til åpen scene i kafeen fra klokken 16:00! Her er det en hyggelig mulighet til å prøve ut eget materiale eller bare fremføre en låt man liker godt i en uhøytidelig setting. \nPasser for alle.
URL:https://muno.no/event/map-asker-radar-uhort-host-2017/
LOCATION:Radar Kafe\, Kirkeveien 206B\, Asker\, 1383\, Norge
CATEGORIES:MAP Asker,MAP Oslo
ORGANIZER;CN="Muno":MAILTO:post@muno.no
GEO:59.8358972;10.4330517
X-APPLE-STRUCTURED-LOCATION;VALUE=URI;X-ADDRESS=Radar Kafe Kirkeveien 206B Asker 1383 Norge;X-APPLE-RADIUS=500;X-TITLE=Kirkeveien 206B:geo:10.4330517,59.8358972
END:VEVENT
BEGIN:VEVENT
DTSTART;TZID=Europe/Oslo:20171024T173000
DTEND;TZID=Europe/Oslo:20171024T193000
DTSTAMP:20260421T041105
CREATED:20171016T111501Z
LAST-MODIFIED:20171016T112019Z
UID:3034-1508866200-1508873400@muno.no
SUMMARY:Elevkonsert Lillestrøm - høsten 2017: Mirjam og Sigbjørn
DESCRIPTION:Høstkonserten finner sted på Scenerommet i Munos egne lokaler. Kontakt lærer direkte for mer informasjon. \n\nKl. 17:30: Mirjams elever\nKl. 18:30: Sigbjørns elever
URL:https://muno.no/event/konsert-lillestrom-hosten-2017-mirjam-sigbjorn/
LOCATION:Muno Lillestrøm\, Kirkegata 1\, Lillestrøm\, 2000\, Norge
CATEGORIES:Lillestrøm
ORGANIZER;CN="Muno":MAILTO:post@muno.no
GEO:59.9565492;11.0349711
X-APPLE-STRUCTURED-LOCATION;VALUE=URI;X-ADDRESS=Muno Lillestrøm Kirkegata 1 Lillestrøm 2000 Norge;X-APPLE-RADIUS=500;X-TITLE=Kirkegata 1:geo:11.0349711,59.9565492
END:VEVENT
BEGIN:VEVENT
DTSTART;TZID=Europe/Oslo:20171019T190000
DTEND;TZID=Europe/Oslo:20171019T200000
DTSTAMP:20260421T041105
CREATED:20171016T111337Z
LAST-MODIFIED:20171016T113953Z
UID:3033-1508439600-1508443200@muno.no
SUMMARY:Elevkonsert Muno Lillestrøm - høsten 2017: Thomas og Daniel
DESCRIPTION:Høstkonsert for Thomas og Daniels elever. Konserten finner sted på Scenerommet i Munos egne lokaler. Kontakt lærer direkte for mer informasjon.
URL:https://muno.no/event/konsert-lillestrom-hosten-2017-thomas-daniel/
LOCATION:Muno Lillestrøm\, Kirkegata 1\, Lillestrøm\, 2000\, Norge
CATEGORIES:Lillestrøm
ORGANIZER;CN="Muno":MAILTO:post@muno.no
GEO:59.9565492;11.0349711
X-APPLE-STRUCTURED-LOCATION;VALUE=URI;X-ADDRESS=Muno Lillestrøm Kirkegata 1 Lillestrøm 2000 Norge;X-APPLE-RADIUS=500;X-TITLE=Kirkegata 1:geo:11.0349711,59.9565492
END:VEVENT
BEGIN:VEVENT
DTSTART;TZID=Europe/Oslo:20171019T180000
DTEND;TZID=Europe/Oslo:20171019T203000
DTSTAMP:20260421T041105
CREATED:20171017T122727Z
LAST-MODIFIED:20171017T122727Z
UID:3049-1508436000-1508445000@muno.no
SUMMARY:MAP Asker - oppstart høstsemester 2017
DESCRIPTION:
URL:https://muno.no/event/map-asker-oppstart-host-2017/
LOCATION:Muno Asker\, Alfheim 26\, Asker\, 1384\, Norge
CATEGORIES:MAP Asker
ORGANIZER;CN="Muno":MAILTO:post@muno.no
GEO:59.8328721;10.4373616
X-APPLE-STRUCTURED-LOCATION;VALUE=URI;X-ADDRESS=Muno Asker Alfheim 26 Asker 1384 Norge;X-APPLE-RADIUS=500;X-TITLE=Alfheim 26:geo:10.4373616,59.8328721
END:VEVENT
BEGIN:VEVENT
DTSTART;TZID=Europe/Oslo:20171012T190000
DTEND;TZID=Europe/Oslo:20171012T200000
DTSTAMP:20260421T041105
CREATED:20171016T111134Z
LAST-MODIFIED:20171016T114000Z
UID:3031-1507834800-1507838400@muno.no
SUMMARY:Elevkonsert Muno Lillestrøm - høsten 2017: Hugo
DESCRIPTION:Høstkonsert for Hugos elever. Konserten finner sted på Scenerommet i Munos egne lokaler. Kontakt lærer direkte for mer informasjon.
URL:https://muno.no/event/konsert-lillestrom-host-2017-hugo/
LOCATION:Muno Lillestrøm\, Kirkegata 1\, Lillestrøm\, 2000\, Norge
CATEGORIES:Lillestrøm
ORGANIZER;CN="Muno":MAILTO:post@muno.no
GEO:59.9565492;11.0349711
X-APPLE-STRUCTURED-LOCATION;VALUE=URI;X-ADDRESS=Muno Lillestrøm Kirkegata 1 Lillestrøm 2000 Norge;X-APPLE-RADIUS=500;X-TITLE=Kirkegata 1:geo:11.0349711,59.9565492
END:VEVENT
BEGIN:VEVENT
DTSTART;TZID=Europe/Oslo:20170930T180000
DTEND;TZID=Europe/Oslo:20170930T203000
DTSTAMP:20260421T041105
CREATED:20171017T123437Z
LAST-MODIFIED:20171017T123437Z
UID:3054-1506794400-1506803400@muno.no
SUMMARY:MAP Oslo - Oppstart høstsemester 2017
DESCRIPTION:
URL:https://muno.no/event/map-oslo-oppstart-host-2017/
LOCATION:Øvingshotellet\, Preproduksjonsrommet\, Trondheimsveien 2\, bygg H\, Oslo\, 0560\, Norge
CATEGORIES:MAP Oslo
ORGANIZER;CN="Muno":MAILTO:post@muno.no
GEO:59.9199779;10.7598943
X-APPLE-STRUCTURED-LOCATION;VALUE=URI;X-ADDRESS=Øvingshotellet Preproduksjonsrommet Trondheimsveien 2 bygg H Oslo 0560 Norge;X-APPLE-RADIUS=500;X-TITLE=Trondheimsveien 2\, bygg H:geo:10.7598943,59.9199779
END:VEVENT
END:VCALENDAR