BEGIN:VCALENDAR
VERSION:2.0
PRODID:-//Muno - ECPv6.7.0//NONSGML v1.0//EN
CALSCALE:GREGORIAN
METHOD:PUBLISH
X-WR-CALNAME:Muno
X-ORIGINAL-URL:https://muno.no
X-WR-CALDESC:Arrangement for Muno
REFRESH-INTERVAL;VALUE=DURATION:PT1H
X-Robots-Tag:noindex
X-PUBLISHED-TTL:PT1H
BEGIN:VTIMEZONE
TZID:Europe/Oslo
BEGIN:DAYLIGHT
TZOFFSETFROM:+0100
TZOFFSETTO:+0200
TZNAME:CEST
DTSTART:20260329T010000
END:DAYLIGHT
BEGIN:STANDARD
TZOFFSETFROM:+0200
TZOFFSETTO:+0100
TZNAME:CET
DTSTART:20261025T010000
END:STANDARD
END:VTIMEZONE
BEGIN:VEVENT
DTSTART;TZID=Europe/Oslo:20260427T160000
DTEND;TZID=Europe/Oslo:20260427T200000
DTSTAMP:20260423T115206
CREATED:20260205T095427Z
LAST-MODIFIED:20260325T082823Z
UID:12044-1777305600-1777320000@muno.no
SUMMARY:Jam-nights Muno Majorstuen våren 2026
DESCRIPTION:Datoer: mandagene i uke 16\, 18\, 20\, 21\, 23 \n\nOpprigg veileder: kl. 16.00\nUngdom: kl. 16.30-17.30\nVoksengruppe 1 (Willoch\, Hollingen\, Brandt\, Stubberud\, Kaskelainen\, Zsobrák): kl. 17.30-18.30\nVoksengruppe 2 (Bozevic\, Krekling\, Vierli\, Dam-Nielsen\, Alkanger-Eriksson): kl. 18.30-19.30\nNedrigg veileder: kl. 19.30-20.00\n\nSted: Øvingshotellet \nVeileder: Henrik Granli Øieroset \nI Muno tror vi at alle elever har stor pedagogisk- og personlig nytte av å musisere med andre musikere i en utøvende setting. Med jam-nights tilbyr vi elevene en samspillsmulighet hvor de vil øve fram et stykke musikk sammen\, med veiledning fra en erfaren musiker og Muno-pedagog\, som kan fremføres på den lokale avdelingens semesterkonsert. \nDet vil bli arrangert fem jam-nights per avdeling\, og hver kveld er alderssegmentert (der dette er mulig) for å gi et best mulig tilbud til hver gruppe. Gruppene er inndelt slik: Barn 8-12 år\, ungdommer 13-17 år\, Voksne 18+ år. Hver gruppe får én time med veiledning hver av disse kveldene. \nTotalpris per elev er kun 500\,-  og inkluderer alle fem Jam-Nights! Betaling gjøres via faktura som sendes etter påmelding er utført.
URL:https://muno.no/event/jam-nights-muno-majorstuen-varen-2026/2026-04-27/
LOCATION:Øvingshotellet\, Trondheimsveien 2\, Bygg H\, Oslo\, 0560\, Norge
CATEGORIES:Oslo: Majorstuen
ATTACH;FMTTYPE=image/png:https://muno.no/wp-content/uploads/2024/09/JAM-Nights.png
ORGANIZER;CN="Muno":MAILTO:post@muno.no
END:VEVENT
BEGIN:VEVENT
DTSTART;TZID=Europe/Oslo:20260428T180000
DTEND;TZID=Europe/Oslo:20260428T200000
DTSTAMP:20260423T115206
CREATED:20260217T121111Z
LAST-MODIFIED:20260325T082853Z
UID:12209-1777399200-1777406400@muno.no
SUMMARY:Jam-nights Oslo Sentrum våren 2026
DESCRIPTION:Datoer: tirsdagene i uke 16\, 18\, 20\, 21\, 22 \n\nOpprigg veileder: kl. 18.00\nVoksne: kl. 18.30-19.30\nNedrigg veileder: kl. 19.30-20.00\n\nSted: Øvingshotellet \nVeileder: Øyunn Gorset \nI Muno tror vi at alle elever har stor pedagogisk- og personlig nytte av å musisere med andre musikere i en utøvende setting. Med jam-nights tilbyr vi elevene en samspillsmulighet hvor de vil øve fram et stykke musikk sammen\, med veiledning fra en erfaren musiker og Muno-pedagog\, som kan fremføres på den lokale avdelingens semesterkonsert. \nDet vil bli arrangert fem jam-nights per avdeling\, og hver kveld er alderssegmentert (der dette er mulig) for å gi et best mulig tilbud til hver gruppe. Gruppene er inndelt slik: Barn 8-12 år\, ungdommer 13-17 år\, Voksne 18+ år. Hver gruppe får én time med veiledning hver av disse kveldene. \nTotalpris per elev er kun 500\,-  og inkluderer alle fem Jam-Nights! Betaling gjøres via faktura som sendes etter påmelding er utført.
URL:https://muno.no/event/jam-nights-oslo-sentrum-varen-2026/2026-04-28/
LOCATION:Øvingshotellet\, Trondheimsveien 2\, Bygg H\, Oslo\, 0560\, Norge
CATEGORIES:Oslo sentrum
ATTACH;FMTTYPE=image/png:https://muno.no/wp-content/uploads/2024/09/JAM-Nights.png
ORGANIZER;CN="Muno":MAILTO:post@muno.no
END:VEVENT
BEGIN:VEVENT
DTSTART;TZID=Europe/Oslo:20260511T160000
DTEND;TZID=Europe/Oslo:20260511T200000
DTSTAMP:20260423T115206
CREATED:20260205T095427Z
LAST-MODIFIED:20260325T082824Z
UID:12045-1778515200-1778529600@muno.no
SUMMARY:Jam-nights Muno Majorstuen våren 2026
DESCRIPTION:Datoer: mandagene i uke 16\, 18\, 20\, 21\, 23 \n\nOpprigg veileder: kl. 16.00\nUngdom: kl. 16.30-17.30\nVoksengruppe 1 (Willoch\, Hollingen\, Brandt\, Stubberud\, Kaskelainen\, Zsobrák): kl. 17.30-18.30\nVoksengruppe 2 (Bozevic\, Krekling\, Vierli\, Dam-Nielsen\, Alkanger-Eriksson): kl. 18.30-19.30\nNedrigg veileder: kl. 19.30-20.00\n\nSted: Øvingshotellet \nVeileder: Henrik Granli Øieroset \nI Muno tror vi at alle elever har stor pedagogisk- og personlig nytte av å musisere med andre musikere i en utøvende setting. Med jam-nights tilbyr vi elevene en samspillsmulighet hvor de vil øve fram et stykke musikk sammen\, med veiledning fra en erfaren musiker og Muno-pedagog\, som kan fremføres på den lokale avdelingens semesterkonsert. \nDet vil bli arrangert fem jam-nights per avdeling\, og hver kveld er alderssegmentert (der dette er mulig) for å gi et best mulig tilbud til hver gruppe. Gruppene er inndelt slik: Barn 8-12 år\, ungdommer 13-17 år\, Voksne 18+ år. Hver gruppe får én time med veiledning hver av disse kveldene. \nTotalpris per elev er kun 500\,-  og inkluderer alle fem Jam-Nights! Betaling gjøres via faktura som sendes etter påmelding er utført.
URL:https://muno.no/event/jam-nights-muno-majorstuen-varen-2026/2026-05-11/
LOCATION:Øvingshotellet\, Trondheimsveien 2\, Bygg H\, Oslo\, 0560\, Norge
CATEGORIES:Oslo: Majorstuen
ATTACH;FMTTYPE=image/png:https://muno.no/wp-content/uploads/2024/09/JAM-Nights.png
ORGANIZER;CN="Muno":MAILTO:post@muno.no
END:VEVENT
BEGIN:VEVENT
DTSTART;TZID=Europe/Oslo:20260512T180000
DTEND;TZID=Europe/Oslo:20260512T200000
DTSTAMP:20260423T115206
CREATED:20260217T121111Z
LAST-MODIFIED:20260325T082854Z
UID:12210-1778608800-1778616000@muno.no
SUMMARY:Jam-nights Oslo Sentrum våren 2026
DESCRIPTION:Datoer: tirsdagene i uke 16\, 18\, 20\, 21\, 22 \n\nOpprigg veileder: kl. 18.00\nVoksne: kl. 18.30-19.30\nNedrigg veileder: kl. 19.30-20.00\n\nSted: Øvingshotellet \nVeileder: Øyunn Gorset \nI Muno tror vi at alle elever har stor pedagogisk- og personlig nytte av å musisere med andre musikere i en utøvende setting. Med jam-nights tilbyr vi elevene en samspillsmulighet hvor de vil øve fram et stykke musikk sammen\, med veiledning fra en erfaren musiker og Muno-pedagog\, som kan fremføres på den lokale avdelingens semesterkonsert. \nDet vil bli arrangert fem jam-nights per avdeling\, og hver kveld er alderssegmentert (der dette er mulig) for å gi et best mulig tilbud til hver gruppe. Gruppene er inndelt slik: Barn 8-12 år\, ungdommer 13-17 år\, Voksne 18+ år. Hver gruppe får én time med veiledning hver av disse kveldene. \nTotalpris per elev er kun 500\,-  og inkluderer alle fem Jam-Nights! Betaling gjøres via faktura som sendes etter påmelding er utført.
URL:https://muno.no/event/jam-nights-oslo-sentrum-varen-2026/2026-05-12/
LOCATION:Øvingshotellet\, Trondheimsveien 2\, Bygg H\, Oslo\, 0560\, Norge
CATEGORIES:Oslo sentrum
ATTACH;FMTTYPE=image/png:https://muno.no/wp-content/uploads/2024/09/JAM-Nights.png
ORGANIZER;CN="Muno":MAILTO:post@muno.no
END:VEVENT
BEGIN:VEVENT
DTSTART;TZID=Europe/Oslo:20260518T160000
DTEND;TZID=Europe/Oslo:20260518T200000
DTSTAMP:20260423T115206
CREATED:20260205T095427Z
LAST-MODIFIED:20260325T082824Z
UID:12046-1779120000-1779134400@muno.no
SUMMARY:Jam-nights Muno Majorstuen våren 2026
DESCRIPTION:Datoer: mandagene i uke 16\, 18\, 20\, 21\, 23 \n\nOpprigg veileder: kl. 16.00\nUngdom: kl. 16.30-17.30\nVoksengruppe 1 (Willoch\, Hollingen\, Brandt\, Stubberud\, Kaskelainen\, Zsobrák): kl. 17.30-18.30\nVoksengruppe 2 (Bozevic\, Krekling\, Vierli\, Dam-Nielsen\, Alkanger-Eriksson): kl. 18.30-19.30\nNedrigg veileder: kl. 19.30-20.00\n\nSted: Øvingshotellet \nVeileder: Henrik Granli Øieroset \nI Muno tror vi at alle elever har stor pedagogisk- og personlig nytte av å musisere med andre musikere i en utøvende setting. Med jam-nights tilbyr vi elevene en samspillsmulighet hvor de vil øve fram et stykke musikk sammen\, med veiledning fra en erfaren musiker og Muno-pedagog\, som kan fremføres på den lokale avdelingens semesterkonsert. \nDet vil bli arrangert fem jam-nights per avdeling\, og hver kveld er alderssegmentert (der dette er mulig) for å gi et best mulig tilbud til hver gruppe. Gruppene er inndelt slik: Barn 8-12 år\, ungdommer 13-17 år\, Voksne 18+ år. Hver gruppe får én time med veiledning hver av disse kveldene. \nTotalpris per elev er kun 500\,-  og inkluderer alle fem Jam-Nights! Betaling gjøres via faktura som sendes etter påmelding er utført.
URL:https://muno.no/event/jam-nights-muno-majorstuen-varen-2026/2026-05-18/
LOCATION:Øvingshotellet\, Trondheimsveien 2\, Bygg H\, Oslo\, 0560\, Norge
CATEGORIES:Oslo: Majorstuen
ATTACH;FMTTYPE=image/png:https://muno.no/wp-content/uploads/2024/09/JAM-Nights.png
ORGANIZER;CN="Muno":MAILTO:post@muno.no
END:VEVENT
BEGIN:VEVENT
DTSTART;TZID=Europe/Oslo:20260519T180000
DTEND;TZID=Europe/Oslo:20260519T200000
DTSTAMP:20260423T115206
CREATED:20260217T121111Z
LAST-MODIFIED:20260325T082854Z
UID:12211-1779213600-1779220800@muno.no
SUMMARY:Jam-nights Oslo Sentrum våren 2026
DESCRIPTION:Datoer: tirsdagene i uke 16\, 18\, 20\, 21\, 22 \n\nOpprigg veileder: kl. 18.00\nVoksne: kl. 18.30-19.30\nNedrigg veileder: kl. 19.30-20.00\n\nSted: Øvingshotellet \nVeileder: Øyunn Gorset \nI Muno tror vi at alle elever har stor pedagogisk- og personlig nytte av å musisere med andre musikere i en utøvende setting. Med jam-nights tilbyr vi elevene en samspillsmulighet hvor de vil øve fram et stykke musikk sammen\, med veiledning fra en erfaren musiker og Muno-pedagog\, som kan fremføres på den lokale avdelingens semesterkonsert. \nDet vil bli arrangert fem jam-nights per avdeling\, og hver kveld er alderssegmentert (der dette er mulig) for å gi et best mulig tilbud til hver gruppe. Gruppene er inndelt slik: Barn 8-12 år\, ungdommer 13-17 år\, Voksne 18+ år. Hver gruppe får én time med veiledning hver av disse kveldene. \nTotalpris per elev er kun 500\,-  og inkluderer alle fem Jam-Nights! Betaling gjøres via faktura som sendes etter påmelding er utført.
URL:https://muno.no/event/jam-nights-oslo-sentrum-varen-2026/2026-05-19/
LOCATION:Øvingshotellet\, Trondheimsveien 2\, Bygg H\, Oslo\, 0560\, Norge
CATEGORIES:Oslo sentrum
ATTACH;FMTTYPE=image/png:https://muno.no/wp-content/uploads/2024/09/JAM-Nights.png
ORGANIZER;CN="Muno":MAILTO:post@muno.no
END:VEVENT
BEGIN:VEVENT
DTSTART;TZID=Europe/Oslo:20260526T180000
DTEND;TZID=Europe/Oslo:20260526T200000
DTSTAMP:20260423T115206
CREATED:20260217T121111Z
LAST-MODIFIED:20260325T082854Z
UID:12212-1779818400-1779825600@muno.no
SUMMARY:Jam-nights Oslo Sentrum våren 2026
DESCRIPTION:Datoer: tirsdagene i uke 16\, 18\, 20\, 21\, 22 \n\nOpprigg veileder: kl. 18.00\nVoksne: kl. 18.30-19.30\nNedrigg veileder: kl. 19.30-20.00\n\nSted: Øvingshotellet \nVeileder: Øyunn Gorset \nI Muno tror vi at alle elever har stor pedagogisk- og personlig nytte av å musisere med andre musikere i en utøvende setting. Med jam-nights tilbyr vi elevene en samspillsmulighet hvor de vil øve fram et stykke musikk sammen\, med veiledning fra en erfaren musiker og Muno-pedagog\, som kan fremføres på den lokale avdelingens semesterkonsert. \nDet vil bli arrangert fem jam-nights per avdeling\, og hver kveld er alderssegmentert (der dette er mulig) for å gi et best mulig tilbud til hver gruppe. Gruppene er inndelt slik: Barn 8-12 år\, ungdommer 13-17 år\, Voksne 18+ år. Hver gruppe får én time med veiledning hver av disse kveldene. \nTotalpris per elev er kun 500\,-  og inkluderer alle fem Jam-Nights! Betaling gjøres via faktura som sendes etter påmelding er utført.
URL:https://muno.no/event/jam-nights-oslo-sentrum-varen-2026/2026-05-26/
LOCATION:Øvingshotellet\, Trondheimsveien 2\, Bygg H\, Oslo\, 0560\, Norge
CATEGORIES:Oslo sentrum
ATTACH;FMTTYPE=image/png:https://muno.no/wp-content/uploads/2024/09/JAM-Nights.png
ORGANIZER;CN="Muno":MAILTO:post@muno.no
END:VEVENT
BEGIN:VEVENT
DTSTART;TZID=Europe/Oslo:20260601T160000
DTEND;TZID=Europe/Oslo:20260601T200000
DTSTAMP:20260423T115206
CREATED:20260205T095427Z
LAST-MODIFIED:20260325T082825Z
UID:12047-1780329600-1780344000@muno.no
SUMMARY:Jam-nights Muno Majorstuen våren 2026
DESCRIPTION:Datoer: mandagene i uke 16\, 18\, 20\, 21\, 23 \n\nOpprigg veileder: kl. 16.00\nUngdom: kl. 16.30-17.30\nVoksengruppe 1 (Willoch\, Hollingen\, Brandt\, Stubberud\, Kaskelainen\, Zsobrák): kl. 17.30-18.30\nVoksengruppe 2 (Bozevic\, Krekling\, Vierli\, Dam-Nielsen\, Alkanger-Eriksson): kl. 18.30-19.30\nNedrigg veileder: kl. 19.30-20.00\n\nSted: Øvingshotellet \nVeileder: Henrik Granli Øieroset \nI Muno tror vi at alle elever har stor pedagogisk- og personlig nytte av å musisere med andre musikere i en utøvende setting. Med jam-nights tilbyr vi elevene en samspillsmulighet hvor de vil øve fram et stykke musikk sammen\, med veiledning fra en erfaren musiker og Muno-pedagog\, som kan fremføres på den lokale avdelingens semesterkonsert. \nDet vil bli arrangert fem jam-nights per avdeling\, og hver kveld er alderssegmentert (der dette er mulig) for å gi et best mulig tilbud til hver gruppe. Gruppene er inndelt slik: Barn 8-12 år\, ungdommer 13-17 år\, Voksne 18+ år. Hver gruppe får én time med veiledning hver av disse kveldene. \nTotalpris per elev er kun 500\,-  og inkluderer alle fem Jam-Nights! Betaling gjøres via faktura som sendes etter påmelding er utført.
URL:https://muno.no/event/jam-nights-muno-majorstuen-varen-2026/2026-06-01/
LOCATION:Øvingshotellet\, Trondheimsveien 2\, Bygg H\, Oslo\, 0560\, Norge
CATEGORIES:Oslo: Majorstuen
ATTACH;FMTTYPE=image/png:https://muno.no/wp-content/uploads/2024/09/JAM-Nights.png
ORGANIZER;CN="Muno":MAILTO:post@muno.no
END:VEVENT
BEGIN:VEVENT
DTSTART;TZID=Europe/Oslo:20260605T150000
DTEND;TZID=Europe/Oslo:20260605T213000
DTSTAMP:20260423T115206
CREATED:20260211T121805Z
LAST-MODIFIED:20260211T121805Z
UID:12103-1780671600-1780695000@muno.no
SUMMARY:Semesterkonsert Muno Hellerud og Snarøya våren 2026
DESCRIPTION:Hjertelig velkommen til semesterkonserter for Muno Hellerud og Snarøya! \nEn av de mest spennende\, og beste opplevelsene ved å drive med musikk er å få lov til å delta på konsert – enten som utøver\, crew eller publikum. Vi i Muno mener det å delta på konsert er en viktig del av musikkutdanningen til våre elever\, og har derfor konseptet «alle skal med». Les mer om Munos konsertopplegg\, her: https://muno.no/semesterkonserter/ \nForeløpige tider (tidene blir fastsatt etter utløpet av påmeldingsfristen): \nGet-in tid for lærere: kl. 15.00 \nBARN (<12 år): \n\nOppmøtetid for utøvere: kl. 16.00\nKonsert: kl. 16.30-17.30\n\nUNGDOM (13-17 år) \n\nOppmøtetid for utøvere: kl. 17.45\nKonsert: kl. 18.15-19.15\n\nVOKSEN (18+ år) \n\nOppmøtetid for utøvere: kl. 19.30\nKonsert: kl. 20.00-21.00\n\nGet-out tid for lærere og Crew: kl. 21.30 \n\nDørene åpner for publikum 10 minutter før hver konsert for elever påmeldt “Publikum”\, samt familie\, venner og kjente! \n  \nPublikum Vippser billetten \nDu gir etter eget hjerte og lommebok. Ditt bidrag får magien til å skje!
URL:https://muno.no/event/semesterkonsert-muno-hellerud-og-snaroya-varen-2026/
LOCATION:Øvingshotellet\, Trondheimsveien 2\, Bygg H\, Oslo\, 0560\, Norge
CATEGORIES:Oslo: Hellerud,Snarøya
ATTACH;FMTTYPE=image/jpeg:https://muno.no/wp-content/uploads/2021/06/pexels-mark-angelo-1587927-scaled.jpeg
ORGANIZER;CN="Muno":MAILTO:post@muno.no
END:VEVENT
BEGIN:VEVENT
DTSTART;TZID=Europe/Oslo:20260606T103000
DTEND;TZID=Europe/Oslo:20260606T163000
DTSTAMP:20260423T115206
CREATED:20260211T132507Z
LAST-MODIFIED:20260211T132507Z
UID:12117-1780741800-1780763400@muno.no
SUMMARY:Semesterkonsert Muno Oslo Sentrum våren 2026
DESCRIPTION:Hjertelig velkommen til semesterkonserter for Muno Oslo Sentrum! \nEn av de mest spennende\, og beste opplevelsene ved å drive med musikk er å få lov til å delta på konsert – enten som utøver\, crew eller publikum. Vi i Muno mener det å delta på konsert er en viktig del av musikkutdanningen til våre elever\, og har derfor konseptet «alle skal med». Les mer om Munos konsertopplegg\, her: https://muno.no/semesterkonserter/ \nForeløpige tider (tidene blir fastsatt etter utløpet av påmeldingsfristen): \nGet-in tid for lærere: kl. 10.30 \nTider for oppmøte og konsert for de ulike gruppene (barn\, ungdom\, voksne)  kommer \nGet-out tid for lærere og Crew: kl. 16.30 \n\nDørene åpner for publikum 10 minutter før hver konsert for elever påmeldt “Publikum”\, samt familie\, venner og kjente! \n  \nPublikum Vippser billetten \nDu gir etter eget hjerte og lommebok. Ditt bidrag får magien til å skje!
URL:https://muno.no/event/semesterkonsert-muno-oslo-sentrum-varen-2026/
LOCATION:Øvingshotellet\, Trondheimsveien 2\, Bygg H\, Oslo\, 0560\, Norge
CATEGORIES:Oslo sentrum
ATTACH;FMTTYPE=image/jpeg:https://muno.no/wp-content/uploads/2021/06/pexels-mark-angelo-1587927-scaled.jpeg
ORGANIZER;CN="Muno":MAILTO:post@muno.no
END:VEVENT
BEGIN:VEVENT
DTSTART;TZID=Europe/Oslo:20260607T103000
DTEND;TZID=Europe/Oslo:20260607T183000
DTSTAMP:20260423T115206
CREATED:20260211T122647Z
LAST-MODIFIED:20260211T122647Z
UID:12112-1780828200-1780857000@muno.no
SUMMARY:Semesterkonsert Muno Majorstuen våren 2026
DESCRIPTION:Hjertelig velkommen til semesterkonserter for Muno Majorstuen! \nEn av de mest spennende\, og beste opplevelsene ved å drive med musikk er å få lov til å delta på konsert – enten som utøver\, crew eller publikum. Vi i Muno mener det å delta på konsert er en viktig del av musikkutdanningen til våre elever\, og har derfor konseptet «alle skal med». Les mer om Munos konsertopplegg\, her: https://muno.no/semesterkonserter/ \nForeløpige tider (tidene blir fastsatt etter utløpet av påmeldingsfristen): \nGet-in tid for lærere: kl. 10.30 \nTider for oppmøte og konsert for de ulike gruppene (barn\, ungdom\, voksne)  kommer \nGet-out tid for lærere og Crew: kl. 16.30/18.30 \n\nDørene åpner for publikum 10 minutter før hver konsert for elever påmeldt “Publikum”\, samt familie\, venner og kjente! \n  \nPublikum Vippser billetten \nDu gir etter eget hjerte og lommebok. Ditt bidrag får magien til å skje!
URL:https://muno.no/event/semesterkonsert-muno-majorstuen-varen-2026/
LOCATION:Øvingshotellet\, Trondheimsveien 2\, Bygg H\, Oslo\, 0560\, Norge
CATEGORIES:Oslo: Majorstuen
ATTACH;FMTTYPE=image/jpeg:https://muno.no/wp-content/uploads/2021/06/pexels-mark-angelo-1587927-scaled.jpeg
ORGANIZER;CN="Muno":MAILTO:post@muno.no
END:VEVENT
END:VCALENDAR